Workbook

Sheet صورت وضعیت
A10: صندوق سرمایه گذاری دیبای معیار
A11: صورت وضعیت پرتفوی صندوق سرمایه گذاری کالای دیبای معیار (لیان)
A12: برای ماه منتهی به 1405/07/30

Sheet سهام
A1: صندوق سرمایه گذاری دیبای معیار
A2: صورت وضعیت پرتفوی صندوق سرمایه گذاری کالای دیبای معیار (لیان)
A3: برای ماه منتهی به 1405/07/30
A4: -1 | B4: سرمایه گذاری ها
A5: -1-1 | C5: سرمایه گذاری در گواهی سپرده کالایی
F6: 1405/06/31 | L6: تغییرات طی دوره | T6: 1405/07/30
L7: خرید طی دوره | P7: فروش طی دوره
A8: نام شرکت | E8: تعداد | H8: بهای تمام شده | J8: خالص ارزش فروش | L8: تعداد | N8: بهای تمام شده | P8: تعداد | R8: مبلغ فروش | T8: تعداد | V8: قیمت بازار هر سهم | X8: بهای تمام شده | Z8: خالص ارزش فروش | AB8: درصد به کل دارایی ها
A9: اختیار خرید گواهی سپرده پیوسته شمش طلای +995 GBBA05C1400 14000000.0000-1405/11/27 | E9: 14191 | H9: 172346232452 | J9: 2.8348679e+11 | L9: 0 | N9: 0 | P9: 0 | R9: 0 | T9: =E9+L9-P9 -> 14191 | V9: 24398273 | X9: 172346232452 | Z9: 3.4582041e+11 | AB9: =Z9/$AE$9 -> 0.0059039209 | AE9: 58574702476929
A10: اختیار خرید گواهی سپرده پیوسته شمش طلای +995 GBBA05C1800 18000000.0000-1405/11/27 | E10: 818 | H10: 9995330058 | J10: 1.4436714e+10 | L10: 0 | N10: 0 | P10: 0 | R10: 0 | T10: =E10+L10-P10 -> 818 | V10: 20181108 | X10: 9995330058 | Z10: 1.6488337e+10 | AB10: =Z10/$AE$9 -> 0.00028149245
A11: شمش طلا GoldBar | E11: 1542315 | H11: 24674928104199 | J11: 48881749115880 | L11: 139314 | N11: 4622087019543 | P11: 69463 | R11: 2380909018218 | T11: =E11+L11-P11 -> 1612166 | V11: 35880000 | X11: 28106227335415 | Z11: 57705689241408 | AB11: =Z11/$AE$9 -> 0.98516402
A12: شمش نقره SilverBar | E12: 100000 | H12: 426157498166 | J12: 500795200000 | L12: 0 | N12: 0 | P12: 0 | R12: 0 | T12: =E12+L12-P12 -> 100000 | V12: 5000800 | X12: 426157498166 | Z12: 498879808000 | AB12: =Z12/$AE$9 -> 0.0085169841
A13: جمع | H13: =SUM(H9:H12) -> 25283427164875 | J13: =SUM(J9:J12) -> 4.9680468e+13 | N13: =SUM(N9:N12) -> 4622087019543 | R13: =SUM(R9:R12) -> 2380909018218 | X13: =SUM(X9:X12) -> 28714726396091 | Z13: =SUM(Z9:Z12) -> 5.8566878e+13 | AB13: =SUM(AB9:AB12) -> 0.99986642

Sheet اوراق مشتقه
A1: صندوق سرمایه گذاری دیبای معیار
A2: صورت وضعیت پرتفوی صندوق سرمایه گذاری کالای دیبای معیار (لیان)
A3: برای ماه منتهی به 1405/07/30
A5: اطلاعات آماری مرتبط با موقعیت های اخذ شده در اوراق اختیار معامله توسط صندوق سرمایه گذاری:
C6: 1405/06/31 | Y6: 1405/07/30
A7: نام سهام | C7: نوع اختیار | E7: نوع موقعیت | G7: استراتژی ماخوذه | K7: تعداد اوراق | O7: قیمت اعمال | S7: تاریخ اعمال | Y7: نوع اختیار | AE7: نوع موقعیت | AK7: استراتژی ماخوذه | AO7: تعداد اوراق | AS7: قیمت اعمال | AV7: تاریخ اعمال
A8: اختیار خرید گواهی سپرده پیوسته شمش طلای +995 GBBA05C1400 14000000.0000-1405/11/27 | C8: اختیار خرید | E8: موقعیت خرید | G8: - | K8: 14191 | O8: 14000000 | S8: 1405/11/27 | Y8: اختیار خرید | AE8: موقعیت خرید | AK8: - | AO8: 14191 | AS8: 14000000 | AV8: 1405/11/27
A9: اختیار خرید گواهی سپرده پیوسته شمش طلای +995 GBBA05C1800 18000000.0000-1405/11/27 | C9: اختیار خرید | E9: موقعیت خرید | G9: - | K9: 818 | O9: 18000000 | S9: 1405/11/27 | Y9: اختیار خرید | AE9: موقعیت خرید | AK9: - | AO9: 818 | AS9: 18000000 | AV9: 1405/11/27

Sheet سپرده
A1: صندوق سرمایه گذاری دیبای معیار
A2: صورت وضعیت پرتفوی صندوق سرمایه گذاری کالای دیبای معیار (لیان)
A3: برای ماه منتهی به 1405/07/30
A5: _2-1 | B5: سرمایه‌گذاری در سپرده‌ بانکی
D6: 1405/06/31 | F6: تغییرات طی دوره | J6: 1405/07/30
A8: سپرده های بانکی | D8: مبلغ | F8: افزایش | H8: کاهش | J8: مبلغ | L8: درصد به کل دارایی ها
A9: سپرده بانکی | D9: 139013173675 | F9: 6702718419753 | H9: 6839335032499 | J9: =D9+F9-H9 -> 2396560929 | L9: =J9/سهام!AE9 -> 4.0914607e-05
A10: جمع | D10: =SUM(D9:D9) -> 139013173675 | F10: =SUM(F9:F9) -> 6702718419753 | H10: =SUM(H9:H9) -> 6839335032499 | J10: =SUM(J9:J9) -> 2396560929 | L10: =SUM(L9) -> 4.0914607e-05

Sheet درآمد
A1: صندوق سرمایه گذاری دیبای معیار
A2: صورت وضعیت درآمدها صندوق سرمایه گذاری کالای دیبای معیار (لیان)
A3: برای ماه منتهی به 1405/07/30
A5: -2 | B5: درآمد حاصل از سرمایه گذاری ها
A7: شرح | D7: یادداشت | F7: مبلغ | H7: درصد از کل درآمدها | J7: درصد از کل دارایی ها
A8: درآمد حاصل از سرمایه گذاری در گواهی سپرده کالایی | D8: 1-2 | F8: ='درآمد حاصل از سرمایه گذاری در گ'!J13 -> 6645231977069 | H8: =F8/$F$11 -> 0.99938872 | J8: =F8/سهام!$AE$9 -> 0.11344884
A9: درآمد حاصل از سرمایه گذاری در سپرده بانکی و گواهی سپرده | D9: 2-2 | F9: ='درآمد سپرده بانکی'!D9 -> 1979053 | H9: =F9/$F$11 -> 2.9763344e-07 | J9: =F9/سهام!$AE$9 -> 3.3786821e-08
A10: سایر درآمدها | D10: 3-2 | F10: ='سایر درآمدها'!D9 -> 4062594503 | H10: =F10/$F$11 -> 0.0006109811 | J10: =F10/سهام!$AE$9 -> 6.9357493e-05
A11: جمع | F11: =SUM(F8:F10) -> 6649296550625 | H11: =SUM(H8:H10) -> 1 | J11: =SUM(J8:J10) -> 0.11351823

Sheet درآمد حاصل از سرمایه گذاری در گ
A1: صندوق سرمایه گذاری دیبای معیار
A2: صورت وضعیت درآمدها صندوق سرمایه گذاری کالای دیبای معیار (لیان)
A3: برای ماه منتهی به 1405/07/30
A5: -1-2 | B5: درآمد حاصل از سرمایه گذاری در گواهی سپرده کالایی
D6: طی ماه | N6: از ابتدای سال مالی
J7: جمع | U7: جمع
A8: سهام | D8: درآمد سود سهام | F8: درآمد تغییر ارزش | H8: درآمد فروش | J8: مبلغ | L8: درصد از کل درآمدها | N8: درآمد سود سهام | P8: درآمد تغییر ارزش | S8: درآمد فروش | U8: مبلغ | W8: درصد از کل درآمدها
A9: شمش طلا GoldBar | D9: 0 | F9: ='درآمد ناشی از تغییر قیمت اوراق'!I10 -> 6408177848317 | H9: ='درآمد ناشی از فروش'!I8 -> 174584275886 | J9: =D9+F9+H9 -> 6582762124203 | L9: =Z9/$Z$13 -> 0.99002857 | N9: 0 | P9: ='درآمد ناشی از تغییر قیمت اوراق'!Q10 -> 6408177848317 | S9: {='درآمد ناشی از فروش'!Q8:R8} -> 174584275886 | T9: 0 | U9: =N9+P9+S9 -> 6582762124203 | W9: =Z9/$Z$13 -> 0.99002857 | Z9: =J9 -> 6582762124203
A10: اختیار خرید گواهی سپرده پیوسته شمش طلای +995 GBBA05C1400 14000000.0000-1405/11/27 | D10: 0 | F10: ='درآمد ناشی از تغییر قیمت اوراق'!I8 -> 62333622608 | H10: 0 | J10: =D10+F10+H10 -> 62333622608 | L10: =Z10/$Z$13 -> 0.0093747984 | N10: 0 | P10: ='درآمد ناشی از تغییر قیمت اوراق'!Q8 -> 62333622608 | S10: 0 | U10: =N10+P10+S10 -> 62333622608 | W10: =Z10/$Z$13 -> 0.0093747984 | Z10: =J10 -> 62333622608
A11: شمش نقره SilverBar | D11: 0 | F11: ='درآمد ناشی از تغییر قیمت اوراق'!I9 -> -1915392000 | H11: 0 | J11: =D11+F11+H11 -> -1915392000 | L11: =Z11/$Z$13 -> 0.00028806947 | N11: 0 | P11: ='درآمد ناشی از تغییر قیمت اوراق'!Q9 -> -1915392000 | S11: 0 | U11: =N11+P11+S11 -> -1915392000 | W11: =Z11/$Z$13 -> 0.00028806947 | Z11: =-J11 -> 1915392000
A12: اختیار خرید گواهی سپرده پیوسته شمش طلای +995 GBBA05C1800 18000000.0000-1405/11/27 | D12: 0 | F12: ='درآمد ناشی از تغییر قیمت اوراق'!I11 -> 2051622258 | H12: 0 | J12: =D12+F12+H12 -> 2051622258 | L12: =Z12/$Z$13 -> 0.00030855811 | N12: 0 | P12: ='درآمد ناشی از تغییر قیمت اوراق'!Q11 -> 2051622258 | S12: 0 | U12: =N12+P12+S12 -> 2051622258 | W12: =Z12/$Z$13 -> 0.00030855811 | Z12: =J12 -> 2051622258
A13: جمع | D13: =SUM(D9:D12) -> 0 | F13: =SUM(F9:F12) -> 6470647701183 | H13: =SUM(H9:H12) -> 174584275886 | J13: =SUM(J9:J12) -> 6645231977069 | L13: =SUM(L9:L12) -> 1 | N13: =SUM(N9:N12) -> 0 | Q13: =SUM(P9:Q12) -> 6470647701183 | S13: =SUM(S9:S12) -> 174584275886 | U13: =SUM(U9:U12) -> 6645231977069 | W13: =SUM(W9:W12) -> 1 | Z13: =SUM(Z9:Z12) -> 6649062761069

Sheet درآمد سپرده بانکی
A1: صندوق سرمایه گذاری دیبای معیار
A2: صورت وضعیت درآمدها صندوق سرمایه گذاری کالای دیبای معیار (لیان)
A3: برای ماه منتهی به 1405/07/30
A5: _2-2 | B5: درآمد حاصل از سرمایه­گذاری در سپرده بانکی و گواهی سپرده
D6: طی ماه | H6: از ابتدای سال مالی
A7: نام سپرده بانکی | D7: سود سپرده بانکی و گواهی سپرده | F7: درصد سود به میانگین سپرده | H7: سود سپرده بانکی و گواهی سپرده | J7: درصد سود به میانگین سپرده
A8: سپرده بانکی | D8: 1979053 | F8: =D8/R17 -> 2.7990336e-05 | H8: 1979053 | J8: =H8/W17 -> 2.7990336e-05
A9: جمع | D9: =SUM(D8:D8) -> 1979053 | F9: =SUM(F8:F8) -> 2.7990336e-05 | H9: =SUM(H8) -> 1979053 | J9: =SUM(J8:J8) -> 2.7990336e-05
Q13: طی ماه | V13: از ابتدای سال مالی
Q15: اول دوره | R15: =سپرده!D9 -> 139013173675 | U15: سپرده بانکی | V15: اول دوره | W15: =سپرده!D9 -> 139013173675
Q16: انتهای دوره | R16: =سپرده!J9 -> 2396560929 | V16: انتهای دوره | W16: =سپرده!J9 -> 2396560929
Q17: میانگین | R17: =(R15+R16)/2 -> 70704867302 | V17: میانگین | W17: =(W15+W16)/2 -> 70704867302

Sheet سایر درآمدها
A1: صندوق سرمایه گذاری دیبای معیار
A2: صورت وضعیت درآمدها صندوق سرمایه گذاری کالای دیبای معیار (لیان)
A3: برای ماه منتهی به 1405/07/30
A5: _3-2 | B5: سایر درآمدها
D6: طی ماه | F6: 1405/07/30
A7: سایر درآمدها | D7: مبلغ | F7: مبلغ
A8: تعدیل کارمزد کارگزار | D8: 4062594503 | F8: 4062594503
A9: جمع | D9: =SUM(D8) -> 4062594503 | F9: =SUM(F8) -> 4062594503

Sheet سود سپرده بانکی
A1: صندوق سرمایه گذاری دیبای معیار
A2: صورت وضعیت درآمدها صندوق سرمایه گذاری کالای دیبای معیار (لیان)
A3: برای ماه منتهی به 1405/07/30
A5: سود سپرده بانکی
A6: شرح | C6: طی ماه | I6: از ابتدای سال مالی
C7: درآمد سود | E7: هزینه تنزیل | G7: خالص درآمد | I7: درآمد سود | K7: هزینه تنزیل | M7: خالص درآمد
A8: ملل | C8: 16120 | E8: 0 | G8: =C8+E8 -> 16120 | I8: 16120 | K8: 0 | M8: =I8+K8 -> 16120
A9: ملت | C9: 1384011 | E9: 0 | G9: =C9+E9 -> 1384011 | I9: 1384011 | K9: 0 | M9: =I9+K9 -> 1384011
A10: خاورمیانه | C10: 578922 | E10: 0 | G10: =C10+E10 -> 578922 | I10: 578922 | K10: 0 | M10: =I10+K10 -> 578922
A11: جمع | C11: =SUM(C8:C10) -> 1979053 | E11: =SUM(E8:E10) -> 0 | G11: =SUM(G8:G10) -> 1979053 | I11: =SUM(I8:I10) -> 1979053 | K11: =SUM(K8:K10) -> 0 | M11: =SUM(M8:M10) -> 1979053

Sheet درآمد ناشی از فروش
A1: صندوق سرمایه گذاری دیبای معیار
A2: صورت وضعیت درآمدها صندوق سرمایه گذاری کالای دیبای معیار (لیان)
A3: برای ماه منتهی به 1405/07/30
A5: سود(زیان) حاصل از فروش اوراق بهادار
A6: شرح | C6: طی ماه | K6: از ابتدای سال مالی
C7: تعداد | E7: خالص بهای فروش | G7: ارزش دفتری | I7: سود و زیان ناشی از فروش | K7: تعداد | M7: خالص بهای فروش | O7: ارزش دفتری | Q7: سود و زیان ناشی از فروش
A8: شمش طلا GoldBar | C8: 69463 | E8: 2380909018218 | G8: 2206324742332 | I8: =E8-G8 -> 174584275886 | K8: 69463 | M8: 2380909018218 | O8: 2206324742332 | Q8: =M8-O8 -> 174584275886
A9: جمع | E9: =SUM(E8) -> 2380909018218 | G9: =SUM(G8) -> 2206324742332 | I9: =SUM(I8) -> 174584275886 | M9: =SUM(M8) -> 2380909018218 | O9: =SUM(O8) -> 2206324742332 | Q9: =SUM(Q8) -> 174584275886

Sheet درآمد ناشی از تغییر قیمت اوراق
A1: صندوق سرمایه گذاری دیبای معیار
A2: صورت وضعیت درآمدها صندوق سرمایه گذاری کالای دیبای معیار (لیان)
A3: برای ماه منتهی به 1405/07/30
A5: درآمد ناشی از تغییر قیمت اوراق بهادار
A6: شرح | C6: طی ماه | K6: از ابتدای سال مالی
C7: تعداد | E7: خالص ارزش فروش | G7: ارزش دفتری | I7: سود و زیان ناشی از تغییر قیمت | K7: تعداد | M7: خالص ارزش فروش | O7: ارزش دفتری | Q7: سود و زیان ناشی از تغییر قیمت
A8: اختیار خرید گواهی سپرده پیوسته شمش طلای +995 GBBA05C1400 14000000.0000-1405/11/27 | C8: 14191 | E8: 345820409072 | G8: 283486786464 | I8: =E8-G8 -> 62333622608 | K8: 14191 | M8: 345820409072 | O8: 283486786464 | Q8: =M8-O8 -> 62333622608
A9: شمش نقره SilverBar | C9: 100000 | E9: 498879808000 | G9: 500795200000 | I9: =E9-G9 -> -1915392000 | K9: 100000 | M9: 498879808000 | O9: 500795200000 | Q9: =M9-O9 -> -1915392000
A10: شمش طلا GoldBar | C10: 1612166 | E10: 57705689241408 | G10: 51297511393091 | I10: =E10-G10 -> 6408177848317 | K10: 1612166 | M10: 57705689241408 | O10: 51297511393091 | Q10: =M10-O10 -> 6408177848317
A11: اختیار خرید گواهی سپرده پیوسته شمش طلای +995 GBBA05C1800 18000000.0000-1405/11/27 | C11: 818 | E11: 16488336568 | G11: 14436714310 | I11: =E11-G11 -> 2051622258 | K11: 818 | M11: 16488336568 | O11: 14436714310 | Q11: =M11-O11 -> 2051622258
A12: جمع | E12: =SUM(E8:E11) -> 58566877795048 | G12: =SUM(G8:G11) -> 52096230093865 | I12: =SUM(I8:I11) -> 6470647701183 | M12: =SUM(M8:M11) -> 58566877795048 | O12: =SUM(O8:O11) -> 52096230093865 | Q12: =SUM(Q8:R11) -> 6470647701183
