Workbook

Sheet صورت وضعیت
A8: صندوق سرمایه گذاری دیبای معیار
A9: صورت وضعیت پرتفوی صندوق سرمایه گذاری کالایی دیبای معیار1 (سیان)
A10: برای ماه منتهی به 1405/07/30

Sheet سهام
A1: صندوق سرمایه گذاری دیبای معیار
A2: صورت وضعیت پرتفوی صندوق سرمایه گذاری کالایی دیبای معیار1 (سیان)
A3: برای ماه منتهی به 1405/07/30
A4: -1 | B4: سرمایه گذاری ها
A5: -1-1 | C5: سرمایه گذاری در گواهی سپرده کالایی
F6: 1405/06/31 | L6: تغییرات طی دوره | T6: 1405/07/30
L7: خرید طی دوره | P7: فروش طی دوره
A8: نام شرکت | E8: تعداد | H8: بهای تمام شده | J8: خالص ارزش فروش | L8: تعداد | N8: بهای تمام شده | P8: تعداد | R8: مبلغ فروش | T8: تعداد | V8: قیمت بازار هر سهم | X8: بهای تمام شده | Z8: خالص ارزش فروش | AB8: درصد به کل دارایی ها
A9: شمش نقره SilverBar | E9: 585557 | H9: 2807947353542 | J9: 2932441349264 | L9: 64080 | N9: 327341276577 | P9: 55826 | R9: 282957577612 | T9: =E9+L9-P9 -> 593811 | V9: 5000800 | X9: 2866078918878 | Z9: 2.9624032e+12 | AB9: =Z9/AE9 -> 0.99817751 | AE9: 2967811983783
A10: جمع | H10: =SUM(H9) -> 2807947353542 | J10: =SUM(J9) -> 2932441349264 | N10: =SUM(N9) -> 327341276577 | R10: =SUM(R9) -> 282957577612 | X10: =SUM(X9) -> 2866078918878 | Z10: =SUM(Z9) -> 2.9624032e+12 | AB10: =SUM(AB9) -> 0.99817751

Sheet سپرده
A1: صندوق سرمایه گذاری دیبای معیار
A2: صورت وضعیت پرتفوی صندوق سرمایه گذاری کالایی دیبای معیار1 (سیان)
A3: برای ماه منتهی به 1405/07/30
A5: _2_1 | B5: سرمایه‌گذاری در سپرده‌ بانکی
D6: 1405/06/31 | F6: تغییرات طی دوره | J6: 1405/07/30
A8: سپرده های بانکی | D8: مبلغ | F8: افزایش | H8: کاهش | J8: مبلغ | L8: درصد به کل دارایی ها
A9: سپرده بانکی | D9: 72266322 | F9: 310520939215 | H9: 309802588000 | J9: =D9+F9-H9 -> 790617537 | L9: =J9/سهام!$AE$9 -> 0.00026639745
A10: گواهی سپرده بانکی | D10: 6800000000 | F10: 0 | H10: 6800000000 | J10: =D10+F10-H10 -> 0 | L10: =J10/سهام!$AE$9 -> 0
A11: جمع | D11: =SUM(D9:D10) -> 6872266322 | F11: =SUM(F9:F10) -> 310520939215 | H11: =SUM(H9:H10) -> 316602588000 | J11: =SUM(J9:J10) -> 790617537 | L11: =SUM(L9:L10) -> 0.00026639745

Sheet درآمد
A1: صندوق سرمایه گذاری دیبای معیار
A2: صورت وضعیت پرتفوی صندوق سرمایه گذاری کالایی دیبای معیار1 (سیان)
A3: برای ماه منتهی به 1405/07/30
A5: -2 | B5: درآمد حاصل از سرمایه گذاری ها
A7: شرح | D7: یادداشت | F7: مبلغ | H7: درصد از کل درآمدها | J7: درصد از کل دارایی ها
A8: درآمد حاصل از سرمایه گذاری در گواهی سپرده کالایی | D8: 1-2 | F8: ='درآمد سرمایه گذاری در سهام'!J10 -> -14421871547 | H8: =M8/M11 -> 0.95615664 | J8: =M8/سهام!$AE$9 -> 0.004859429 | M8: =-F8 -> 14421871547
A9: درآمد حاصل از سرمایه گذاری در سپرده بانکی و گواهی سپرده | D9: 2-2 | F9: ='درآمد سپرده بانکی'!D10 -> 426025175 | H9: =M9/M11 -> 0.028245072 | J9: =M9/سهام!$AE$9 -> 0.00014354857 | M9: =F9 -> 426025175
A10: سایر درآمدها | D10: 3-2 | F10: ='سایر درآمدها'!D10 -> 235271663 | H10: =M10/M11 -> 0.015598292 | J10: =M10/سهام!$AE$9 -> 7.927445e-05 | M10: =F10 -> 235271663
A11: جمع | F11: =SUM(F8:F10) -> -13760574709 | H11: =SUM(H8:H10) -> 1 | J11: =SUM(J8:J10) -> 0.005082252 | M11: =SUM(M8:M10) -> 15083168385

Sheet درآمد سرمایه گذاری در سهام
A1: صندوق سرمایه گذاری دیبای معیار
A2: صورت وضعیت پرتفوی صندوق سرمایه گذاری کالایی دیبای معیار1 (سیان)
A3: برای ماه منتهی به 1405/07/30
A5: -1-2 | B5: درآمد حاصل از سرمایه گذاری در گواهی سپرده کالایی
D6: طی ماه | N6: از ابتدای سال مالی
J7: جمع | U7: جمع
A8: سهام | D8: درآمد سود سهام | F8: درآمد تغییر ارزش | H8: درآمد فروش | J8: مبلغ | L8: درصد از کل درآمدها | N8: درآمد سود سهام | P8: درآمد تغییر ارزش | S8: درآمد فروش | U8: مبلغ | W8: درصد از کل درآمدها
A9: شمش نقره SilverBar | D9: 0 | F9: ='درآمد ناشی از تغییر قیمت اوراق'!I9 -> -17264422795 | H9: ='درآمد ناشی از فروش'!I9 -> 2842551248 | J9: =D9+F9+H9 -> -14421871547 | L9: =AA9/درآمد!M11 -> 0.95615664 | N9: 0 | P9: ='درآمد ناشی از تغییر قیمت اوراق'!Q9 -> -17264422795 | S9: ='درآمد ناشی از فروش'!Q8 -> 2842551248 | U9: =N9+P9+S9 -> -14421871547 | W9: =AA9/درآمد!M11 -> 0.95615664 | AA9: =-J9 -> 14421871547
A10: جمع | D10: =SUM(D9) -> 0 | F10: =SUM(F9) -> -17264422795 | H10: =SUM(H9) -> 2842551248 | J10: =SUM(J9) -> -14421871547 | L10: =SUM(L9) -> 0.95615664 | N10: =SUM(N9) -> 0 | Q10: =SUM(P9) -> -17264422795 | S10: =SUM(S9) -> 2842551248 | U10: =SUM(U9) -> -14421871547 | W10: =SUM(W9) -> 0.95615664

Sheet درآمد سپرده بانکی
A1: صندوق سرمایه گذاری دیبای معیار
A2: صورت وضعیت درآمدها صندوق سرمایه گذاری کالایی دیبای معیار1 (سیان)
A3: برای ماه منتهی به 1405/07/30
A5: _2-2 | B5: درآمد حاصل از سرمایه­گذاری در سپرده بانکی و گواهی سپرده
D6: طی ماه | H6: از ابتدای سال مالی
A7: نام سپرده بانکی | D7: سود سپرده بانکی و گواهی سپرده | F7: درصد سود به میانگین سپرده | H7: سود سپرده بانکی و گواهی سپرده | J7: درصد سود به میانگین سپرده
A8: سپرده بانکی | D8: 315580 | F8: =D8/O13 -> 0.0087338055 | H8: 315580 | J8: =H8/T13 -> 0.0087338055
A9: گواهی سپرده بانکی | D9: 425709595 | F9: =D9/O21 -> 0.1252087 | H9: 425709595 | J9: =H9/T21 -> 0.1252087 | N9: طی ماه | S9: از ابتدای سال مالی
A10: جمع | D10: =SUM(D8:D9) -> 426025175 | F10: =SUM(F8:F9) -> 0.13394251 | H10: =SUM(H8:H9) -> 426025175 | J10: =SUM(J8:J9) -> 0.13394251
N11: اول دوره | O11: =سپرده!D9 -> 72266322 | R11: سپرده بانکی | S11: اول دوره | T11: =سپرده!D9 -> 72266322
N12: انتهای دوره | O12: =[1]سپرده!I8 -> 0 | S12: انتهای دوره | T12: =[1]سپرده!I8 -> 0
N13: میانگین | O13: =(O11+O12)/2 -> 36133161 | S13: میانگین | T13: =(T11+T12)/2 -> 36133161
N17: طی ماه | S17: از ابتدای سال مالی
N19: اول دوره | O19: =سپرده!D10 -> 6800000000 | R19: سپرده بانکی | S19: اول دوره | T19: =سپرده!D10 -> 6800000000
N20: انتهای دوره | O20: =[1]سپرده!I9 -> 0 | S20: انتهای دوره | T20: =سپرده!J10 -> 0
N21: میانگین | O21: =(O19+O20)/2 -> 3400000000 | S21: میانگین | T21: =(T19+T20)/2 -> 3400000000

Sheet سایر درآمدها
A1: صندوق سرمایه گذاری دیبای معیار
A2: صورت وضعیت درآمدها صندوق سرمایه گذاری کالایی دیبای معیار1 (سیان)
A3: برای ماه منتهی به 1405/07/30
A5: _3_2 | B5: سایر درآمدها
D6: طی ماه | F6: 1405/07/30
A7: سایر درآمدها | D7: مبلغ | F7: مبلغ
A8: معین برای سایر درآمدهای تنزیل سود بانک | D8: 5154197 | F8: 5154197
A9: تعدیل کارمزد کارگزار | D9: 230117466 | F9: 230117466
A10: جمع | D10: =SUM(D8:D9) -> 235271663 | F10: =SUM(F8:F9) -> 235271663

Sheet سود سپرده بانکی
A1: صندوق سرمایه گذاری دیبای معیار
A2: صورت وضعیت درآمدها صندوق سرمایه گذاری کالایی دیبای معیار1 (سیان)
A3: برای ماه منتهی به 1405/07/30
A5: سود سپرده بانکی
A6: شرح | C6: طی ماه | I6: از ابتدای سال مالی
C7: درآمد سود | E7: هزینه تنزیل | G7: خالص درآمد | I7: درآمد سود | K7: هزینه تنزیل | M7: خالص درآمد
A8: خاورمیانه | C8: 251705 | E8: 0 | G8: =C8+E8 -> 251705 | I8: 251705 | K8: 0 | M8: =I8+K8 -> 251705
A9: گردشگری | C9: 425773470 | E9: 0 | G9: =C9+E9 -> 425773470 | I9: 425773470 | K9: 0 | M9: =I9+K9 -> 425773470
A10: جمع | C10: =SUM(C8:C9) -> 426025175 | E10: =SUM(E8:E9) -> 0 | G10: =SUM(G8:G9) -> 426025175 | I10: =SUM(I8:I9) -> 426025175 | K10: =SUM(K8:K9) -> 0 | M10: =SUM(M8:M9) -> 426025175

Sheet درآمد ناشی از فروش
A1: صندوق سرمایه گذاری دیبای معیار
A2: صورت وضعیت درآمدها صندوق سرمایه گذاری کالایی دیبای معیار1 (سیان)
A3: برای ماه منتهی به 1405/07/30
A5: سود(زیان) حاصل از فروش اوراق بهادار
A6: شرح | C6: طی ماه | K6: از ابتدای سال مالی
C7: تعداد | E7: خالص بهای فروش | G7: ارزش دفتری | I7: سود و زیان ناشی از فروش | K7: تعداد | M7: خالص بهای فروش | O7: ارزش دفتری | Q7: سود و زیان ناشی از فروش
A8: شمش نقره SilverBar | C8: 55826 | E8: 282957577612 | G8: 280115026364 | I8: =E8-G8 -> 2842551248 | K8: 55826 | M8: 282957577612 | O8: 280115026364 | Q8: =M8-O8 -> 2842551248
A9: جمع | E9: =SUM(E8) -> 282957577612 | G9: =SUM(G8) -> 280115026364 | I9: =SUM(I8) -> 2842551248 | M9: =SUM(M8) -> 282957577612 | O9: =SUM(O8) -> 280115026364 | Q9: =SUM(Q8) -> 2842551248

Sheet درآمد ناشی از تغییر قیمت اوراق
A1: صندوق سرمایه گذاری دیبای معیار
A2: صورت وضعیت درآمدها صندوق سرمایه گذاری کالایی دیبای معیار1 (سیان)
A3: برای ماه منتهی به 1405/07/30
A5: درآمد ناشی از تغییر قیمت اوراق بهادار
A6: شرح | C6: طی ماه | K6: از ابتدای سال مالی
C7: تعداد | E7: خالص ارزش فروش | G7: ارزش دفتری | I7: سود و زیان ناشی از تغییر قیمت | K7: تعداد | M7: خالص ارزش فروش | O7: ارزش دفتری | Q7: سود و زیان ناشی از تغییر قیمت
A8: شمش نقره SilverBar | C8: 593811 | E8: 2962403176682 | G8: 2979667599477 | I8: =E8-G8 -> -17264422795 | K8: 593811 | M8: 2962403176682 | O8: 2979667599477 | Q8: =M8-O8 -> -17264422795
A9: جمع | E9: =SUM(E8) -> 2962403176682 | G9: =SUM(G8) -> 2979667599477 | I9: =SUM(I8) -> -17264422795 | M9: =SUM(M8) -> 2962403176682 | O9: =SUM(O8) -> 2979667599477 | Q9: =SUM(Q8) -> -17264422795
