Workbook

Sheet صورت وضعیت
A10: صندوق سرمایه گذاری کالایی دیبای معیار
A11: صورت وضعیت پرتفوی صندوق سرمایه گذاری کالایی دیبای معیار (لیان)
A12: برای ماه منتهی به 1405/06/31

Sheet سهام
A1: صندوق سرمایه گذاری کالایی دیبای معیار
A2: صورت وضعیت پرتفوی صندوق سرمایه گذاری کالایی دیبای معیار (لیان)
A3: برای ماه منتهی به 1405/06/31
A4: -1 | B4: سرمایه گذاری ها
A5: -1-1 | C5: سرمایه گذاری در گواهی سپرده کالایی
F6: 1405/05/31 | L6: تغییرات طی دوره | T6: 1405/06/31
L7: خرید طی دوره | P7: فروش طی دوره
A8: نام شرکت | E8: تعداد | H8: بهای تمام شده | J8: خالص ارزش فروش | L8: تعداد | N8: بهای تمام شده | P8: تعداد | R8: مبلغ فروش | T8: تعداد | V8: قیمت بازار هر سهم | X8: بهای تمام شده | Z8: خالص ارزش فروش | AB8: درصد به کل دارایی ها
A9: اختیار خرید گواهی سپرده پیوسته شمش طلای +995 GBBA05C1400 14000000.0000-1405/11/27 | E9: 14191 | H9: 172346232452 | J9: 257966268560 | L9: 0 | N9: 0 | P9: 0 | R9: 0 | T9: =E9+L9-P9 -> 14191 | V9: 20000520 | X9: 172346232452 | Z9: 2.8348679e+11 | AB9: =Z9/AF13 -> 0.0056007899
A10: اختیار خرید گواهی سپرده پیوسته شمش طلای +995 GBBA05C1800 18000000.0000-1405/11/27 | E10: 818 | H10: 9995330058 | J10: 11438257600 | L10: 0 | N10: 0 | P10: 0 | R10: 0 | T10: =E10+L10-P10 -> 818 | V10: 17669999 | X10: 9995330058 | Z10: 1.4436714e+10 | AB10: =Z10/AF13 -> 0.00028522318
A11: شمش طلا GoldBar | E11: 1787711 | H11: 27097608797783 | J11: 49935773820800 | L11: 94897 | N11: 2882035061317 | P11: 340293 | R11: 10189755048853 | T11: =E11+L11-P11 -> 1542315 | V11: 31770000 | X11: 24674928104199 | Z11: 48881749115880 | AB11: =Z11/AF13 -> 0.96574663
A12: شمش نقره SilverBar | E12: 100000 | H12: 426156769796 | J12: 449924583200 | L12: 1 | N12: 4989945 | P12: 1 | R12: 4823957 | T12: =E12+L12-P12 -> 100000 | V12: 5020000 | X12: 426157498166 | Z12: 500795200000 | AB12: =Z12/AF13 -> 0.0098941074
A13: جمع | H13: =SUM(H9:H12) -> 27706107130089 | J13: =SUM(J9:J12) -> 50655102930160 | N13: =SUM(N9:N12) -> 2882040051262 | R13: =SUM(R9:R12) -> 10189759872810 | X13: =SUM(X9:X12) -> 25283427164875 | Z13: =SUM(Z9:Z12) -> 4.9680468e+13 | AB13: =SUM(AB9:AB12) -> 0.98152675 | AF13: 50615500789560

Sheet اوراق مشتقه
A1: صندوق سرمایه گذاری کالایی دیبایی معیار
A2: صورت وضعیت پرتفوی صندوق سرمایه گذاری کالایی دیبای معیار (لیان)
A3: برای ماه منتهی به 1405/06/31
A5: اطلاعات آماری مرتبط با موقعیت های اخذ شده در اوراق اختیار معامله توسط صندوق سرمایه گذاری:
C6: 1405/05/31 | Y6: 1405/06/31
A7: نام سهام | C7: نوع اختیار | E7: نوع موقعیت | G7: استراتژی ماخوذه | K7: تعداد اوراق | O7: قیمت اعمال | S7: تاریخ اعمال | Y7: نوع اختیار | AE7: نوع موقعیت | AK7: استراتژی ماخوذه | AO7: تعداد اوراق | AS7: قیمت اعمال | AV7: تاریخ اعمال
A8: اختیار خرید گواهی سپرده پیوسته شمش طلای +995 GBBA05C1400 14000000.0000-1405/11/27 | C8: اختیار خرید | E8: موقعیت خرید | G8: - | K8: 14191 | O8: 14000000 | S8: 1405/11/27 | Y8: اختیار خرید | AE8: موقعیت خرید | AK8: - | AO8: 14191 | AS8: 14000000 | AV8: 1405/11/27
A9: اختیار خرید گواهی سپرده پیوسته شمش طلای +995 GBBA05C1800 18000000.0000-1405/11/27 | C9: اختیار خرید | E9: موقعیت خرید | G9: - | K9: 818 | O9: 18000000 | S9: 1405/11/27 | Y9: اختیار خرید | AE9: موقعیت خرید | AK9: - | AO9: 818 | AS9: 18000000 | AV9: 1405/11/27

Sheet سپرده
A1: صندوق سرمایه گذاری کالایی دیبای معیار
A2: صورت وضعیت پرتفوی صندوق سرمایه گذاری کالایی دیبای معیار (لیان)
A3: برای ماه منتهی به 1405/06/31
A5: _2_1 | B5: سرمایه‌گذاری در سپرده‌ بانکی
D6: 1405/05/31 | F6: تغییرات طی دوره | J6: 1405/06/31
A8: سپرده های بانکی | D8: مبلغ | F8: افزایش | H8: کاهش | J8: مبلغ | L8: درصد به کل دارایی ها
A9: سپرده بانکی | D9: 503902706 | F9: 13352194845969 | H9: 13213685575000 | J9: =D9+F9-H9 -> 139013173675 | L9: =J9/سهام!AF13 -> 0.0027464546
A10: جمع | D10: =SUM(D9:D9) -> 503902706 | F10: =SUM(F9:F9) -> 13352194845969 | H10: =SUM(H9:H9) -> 13213685575000 | J10: =SUM(J9:J9) -> 139013173675 | L10: =SUM(L9) -> 0.0027464546

Sheet درآمد
A1: صندوق سرمایه گذاری کالایی دیبای معیار
A2: صورت وضعیت درآمدها صندوق سرمایه گذاری کالایی دیبای معیار (لیان)
A3: برای ماه منتهی به 1405/06/31
A5: -2 | B5: درآمد حاصل از سرمایه گذاری ها
A7: شرح | D7: یادداشت | F7: مبلغ | H7: درصد از کل درآمدها | J7: درصد از کل دارایی ها
A8: درآمد حاصل از سرمایه گذاری در گواهی سپرده کالایی | D8: 1-2 | F8: ='درآمد گواهی کالایی'!J13 -> 6.3330847e+12 | H8: =F8/F11 -> 0.99878248 | J8: =F8/سهام!$AF$13 -> 0.12512145
A9: درآمد حاصل از سرمایه گذاری در سپرده بانکی و گواهی سپرده | D9: 2-2 | F9: ='درآمد سپرده بانکی'!D9 -> 2394235 | H9: =F9/F11 -> 3.7759166e-07 | J9: =F9/سهام!$AF$13 -> 4.7302407e-08
A10: سایر درآمدها | D10: 3-2 | F10: ='سایر درآمدها'!D9 -> 7717640100 | H10: =F10/F11 -> 0.0012171389 | J10: =F10/سهام!$AF$13 -> 0.00015247582
A11: جمع | F11: =SUM(F8:F10) -> 6.3408047e+12 | H11: =SUM(H8:H10) -> 1 | J11: =SUM(J8:J10) -> 0.12527397

Sheet درآمد گواهی کالایی
A1: صندوق سرمایه گذاری کالایی دیبای معیار
A2: صورت وضعیت درآمدها صندوق سرمایه گذاری کالایی دیبای معیار (لیان)
A3: برای ماه منتهی به 1405/06/31
A5: -1-2 | B5: درآمد حاصل از سرمایه گذاری در گواهی سپرده کالایی
D6: طی ماه | N6: از ابتدای سال مالی
J7: جمع | U7: جمع
A8: سهام | D8: درآمد سود سهام | F8: درآمد تغییر ارزش | H8: درآمد فروش | J8: مبلغ | L8: درصد از کل درآمدها | N8: درآمد سود سهام | P8: درآمد تغییر ارزش | S8: درآمد فروش | U8: مبلغ | W8: درصد از کل درآمدها
A9: شمش طلا GoldBar | D9: 0 | F9: ='درآمد ناشی از تغییر قیمت اوراق'!I10 -> 2070358460814 | H9: ='درآمد ناشی از فروش'!I8 -> 4183336821802 | J9: =D9+F9+H9 -> 6253695282616 | L9: =J9/درآمد!$F$11 -> 0.98626208 | N9: 0 | P9: ='درآمد ناشی از تغییر قیمت اوراق'!Q10 -> 21108690326748 | S9: ='درآمد ناشی از فروش'!Q8 -> 15328402504045 | U9: =N9+P9+S9 -> 36437092830793 | W9: =U9/$AA$14 -> 0.99353562
A10: شمش نقره SilverBar | D10: 0 | F10: ='درآمد ناشی از تغییر قیمت اوراق'!I9 -> 50869888430 | H10: ='درآمد ناشی از فروش'!I9 -> 562382 | J10: =D10+F10+H10 -> 50870450812 | L10: =J10/درآمد!$F$11 -> 0.0080227121 | N10: 0 | P10: ='درآمد ناشی از تغییر قیمت اوراق'!Q9 -> 74637701834 | S10: ='درآمد ناشی از فروش'!Q9 -> 1202128960 | U10: =N10+P10+S10 -> 75839830794 | W10: =U10/$AA$14 -> 0.0020679359
A11: اختیار خرید گواهی سپرده پیوسته شمش طلای +995 GBBA05C1400 14000000.0000-1405/11/27 | D11: 0 | F11: ='درآمد ناشی از تغییر قیمت اوراق'!I8 -> 2.5520518e+10 | H11: 0 | J11: =D11+F11+H11 -> 2.5520518e+10 | L11: =J11/درآمد!$F$11 -> 0.0040248074 | N11: 0 | P11: ='درآمد ناشی از تغییر قیمت اوراق'!Q8 -> 1.1114055e+11 | S11: 0 | U11: =N11+P11+S11 -> 1.1114055e+11 | W11: =U11/$AA$14 -> 0.003030486
A12: اختیار خرید گواهی سپرده پیوسته شمش طلای +995 GBBA05C1800 18000000.0000-1405/11/27 | D12: 0 | F12: ='درآمد ناشی از تغییر قیمت اوراق'!I11 -> 2.9984567e+09 | H12: 0 | J12: =D12+F12+H12 -> 2.9984567e+09 | L12: =J12/درآمد!$F$11 -> 0.00047288268 | N12: 0 | P12: ='درآمد ناشی از تغییر قیمت اوراق'!Q11 -> 4.4413843e+09 | S12: 0 | U12: =N12+P12+S12 -> 4.4413843e+09 | W12: =U12/$AA$14 -> 0.00012110388 | Z12: درآمد کل
A13: جمع | D13: =SUM(D9:D12) -> 0 | F13: =SUM(F9:F12) -> 2.1497473e+12 | H13: =SUM(H9:H12) -> 4183337384184 | J13: =SUM(J9:J12) -> 6.3330847e+12 | L13: =SUM(L9:L12) -> 0.99878248 | N13: =SUM(N9:N12) -> 0 | Q13: =SUM(P9:Q12) -> 2.129891e+13 | S13: =SUM(S9:S12) -> 15329604633005 | U13: =SUM(U9:U12) -> 3.6628515e+13 | W13: =SUM(W9:W12) -> 0.99875515 | Z13: 36784511777276 | AA13: درآمد خالص
Z14: 110343337430 | AA14: =Z13-Z14 -> 36674168439846

Sheet درآمد سپرده بانکی
A1: صندوق سرمایه گذاری کالایی دیبای معیار
A2: صورت وضعیت درآمدها صندوق سرمایه گذاری کالایی دیبای معیار (لیان)
A3: برای ماه منتهی به 1405/06/31
A5: _2-2 | B5: درآمد حاصل از سرمایه­گذاری در سپرده بانکی و گواهی سپرده
D6: طی ماه | H6: از ابتدای سال مالی
A7: نام سپرده بانکی | D7: سود سپرده بانکی و گواهی سپرده | F7: درصد سود به میانگین سپرده | H7: سود سپرده بانکی و گواهی سپرده | J7: درصد سود به میانگین سپرده
A8: سپرده بانکی | D8: 2394235 | F8: =D8/O16 -> 3.4321748e-05 | H8: 38519069 | J8: =H8/T16 -> 0.00046733299
A9: جمع | D9: =SUM(D8:D8) -> 2394235 | F9: =SUM(F8) -> 3.4321748e-05 | H9: =SUM(H8:H8) -> 38519069 | J9: =SUM(J8:J8) -> 0.00046733299
N12: طی ماه | S12: از ابتدای سال مالی
N14: اول دوره | O14: =سپرده!D9 -> 503902706 | R14: سپرده بانکی | S14: اول دوره | T14: 25833176937
N15: انتهای دوره | O15: =سپرده!J9 -> 139013173675 | S15: انتهای دوره | T15: =سپرده!J10 -> 139013173675
N16: میانگین | O16: =(O14+O15)/2 -> 6.9758538e+10 | S16: میانگین | T16: =(T14+T15)/2 -> 82423175306

Sheet سایر درآمدها
A1: صندوق سرمایه گذاری کالایی دیبای معیار
A2: صورت وضعیت درآمدها صندوق سرمایه گذاری کالایی دیبای معیار (لیان)
A3: برای ماه منتهی به 1405/06/31
A5: _3_2 | B5: سایر درآمدها
D6: طی ماه | F6: 1405/06/31
A7: سایر درآمدها | D7: مبلغ | F7: مبلغ
A8: تعدیل کارمزد کارگزار | D8: 7717640100 | F8: 44059267226
A9: جمع | D9: =SUM(D8:D8) -> 7717640100 | F9: =SUM(F8:F8) -> 44059267226

Sheet سود سپرده بانکی
A1: صندوق سرمایه گذاری کالایی دیبای معیار
A2: صورت وضعیت درآمدها صندوق سرمایه گذاری کالایی دیبای معیار (لیان)
A3: برای ماه منتهی به 1405/06/31
A5: سود سپرده بانکی
A6: شرح | C6: طی ماه | I6: از ابتدای سال مالی
C7: درآمد سود | E7: هزینه تنزیل | G7: خالص درآمد | I7: درآمد سود | K7: هزینه تنزیل | M7: خالص درآمد
A8: ملت | C8: 1378183 | E8: 0 | G8: =C8-E8 -> 1378183 | I8: 36007549 | K8: 0 | M8: =I8-K8 -> 36007549
A9: ملل | C9: 16052 | E9: 0 | G9: =C9-E9 -> 16052 | I9: 184756 | K9: 0 | M9: =I9-K9 -> 184756
A10: خاورمیانه | C10: 1000000 | E10: 0 | G10: =C10-E10 -> 1000000 | I10: 2326764 | K10: 0 | M10: =I10-K10 -> 2326764
A11: جمع | C11: =SUM(C8:C10) -> 2394235 | E11: =SUM(E8:E10) -> 0 | G11: =SUM(G8:G10) -> 2394235 | I11: =SUM(I8:I10) -> 38519069 | K11: =SUM(K8:K10) -> 0 | M11: =SUM(M8:M10) -> 38519069

Sheet درآمد ناشی از فروش
A1: صندوق سرمایه گذاری کالایی دیبای معیار
A2: صورت وضعیت درآمدها صندوق سرمایه گذاری کالایی دیبای معیار (لیان)
A3: برای ماه منتهی به 1405/06/31
A5: سود(زیان) حاصل از فروش اوراق بهادار
A6: شرح | C6: طی ماه | K6: از ابتدای سال مالی
C7: تعداد | E7: خالص بهای فروش | G7: ارزش دفتری | I7: سود و زیان ناشی از فروش | K7: تعداد | M7: خالص بهای فروش | O7: ارزش دفتری | Q7: سود و زیان ناشی از فروش
A8: شمش طلا GoldBar | C8: =سهام!P11 -> 340293 | E8: 10189755048853 | G8: 6006418227051 | I8: =E8-G8 -> 4183336821802 | K8: 2110361 | M8: 45829269217966 | O8: 30500866713921 | Q8: =M8-O8 -> 15328402504045
A9: شمش نقره SilverBar | C9: =سهام!P12 -> 1 | E9: 4823957 | G9: 4261575 | I9: =E9-G9 -> 562382 | K9: 7001 | M9: 36781717114 | O9: 35579588154 | Q9: =M9-O9 -> 1202128960
A10: جمع | E10: =SUM(E8:E9) -> 10189759872810 | G10: =SUM(G8:G9) -> 6006422488626 | I10: =SUM(I8:I9) -> 4183337384184 | M10: =SUM(M8:M9) -> 45866050935080 | O10: =SUM(O8:O9) -> 30536446302075 | Q10: =SUM(Q8:Q9) -> 15329604633005

Sheet درآمد ناشی از تغییر قیمت اوراق
A1: صندوق سرمایه گذاری کالایی دیبای معیار
A2: صورت وضعیت درآمدها صندوق سرمایه گذاری کالای دیبای معیار (لیان)
A3: برای ماه منتهی به 1405/06/31
A5: درآمد ناشی از تغییر قیمت اوراق بهادار
A6: شرح | C6: طی ماه | K6: از ابتدای سال مالی
C7: تعداد | E7: خالص ارزش فروش | G7: ارزش دفتری | I7: سود و زیان ناشی از تغییر قیمت | K7: تعداد | M7: خالص ارزش فروش | O7: ارزش دفتری | Q7: سود و زیان ناشی از تغییر قیمت
A8: اختیار خرید گواهی سپرده پیوسته شمش طلای +995 GBBA05C1400 14000000.0000-1405/11/27 | C8: 14191 | E8: 2.8348679e+11 | G8: 257966268561 | I8: =E8-G8 -> 2.5520518e+10 | K8: 14191 | M8: 2.8348679e+11 | O8: 172346232453 | Q8: =M8-O8 -> 1.1114055e+11
A9: شمش نقره SilverBar | C9: 100000 | E9: 500795200000 | G9: 449925311570 | I9: =E9-G9 -> 50869888430 | K9: 100000 | M9: 500795200000 | O9: 426157498166 | Q9: =M9-O9 -> 74637701834
A10: شمش طلا GoldBar | C10: 1542315 | E10: 48881749115880 | G10: 46811390655066 | I10: =E10-G10 -> 2070358460814 | K10: 1542315 | M10: 48881749115880 | O10: 27773058789132 | Q10: =M10-O10 -> 21108690326748
A11: اختیار خرید گواهی سپرده پیوسته شمش طلای +995 GBBA05C1800 18000000.0000-1405/11/27 | C11: 818 | E11: 1.4436714e+10 | G11: 11438257601 | I11: =E11-G11 -> 2.9984567e+09 | K11: 818 | M11: 1.4436714e+10 | O11: 9995330059 | Q11: =M11-O11 -> 4.4413843e+09
A12: جمع | E12: =SUM(E8:E11) -> 4.9680468e+13 | G12: =SUM(G8:G11) -> 47530720492798 | I12: =SUM(I8:I11) -> 2.1497473e+12 | M12: =SUM(M8:M11) -> 4.9680468e+13 | O12: =SUM(O8:O11) -> 28381557849810 | Q12: =SUM(Q8:Q11) -> 2.129891e+13
