Workbook

Sheet صورت وضعیت
A13: صندوق سرمایه گذاری کالایی دیبای معیار
A14: صورت وضعیت پرتفوی صندوق سرمایه گذاری کالایی دیبای معیار1 (سیان)
A15: برای ماه منتهی به 1405/06/31

Sheet سهام
A1: صندوق سرمایه گذاری کالایی دیبای معیار
A2: صورت وضعیت پرتفوی صندوق سرمایه گذاری کالایی دیبای معیار1 (سیان)
A3: برای ماه منتهی به 1405/06/31
A4: -1 | B4: سرمایه گذاری ها
A5: -1-1 | C5: سرمایه گذاری در گواهی سپرده کالایی
F6: 1405/05/31 | L6: تغییرات طی دوره | T6: 1405/06/31
L7: خرید طی دوره | P7: فروش طی دوره
A8: نام شرکت | E8: تعداد | H8: بهای تمام شده | J8: خالص ارزش فروش | L8: تعداد | N8: بهای تمام شده | P8: تعداد | R8: مبلغ فروش | T8: تعداد | V8: قیمت بازار هر سهم | X8: بهای تمام شده | Z8: خالص ارزش فروش | AB8: درصد به کل دارایی ها | AE8: کل دارایی
A9: شمش نقره SilverBar | E9: 0 | H9: 0 | J9: 0 | L9: 833278 | N9: 3995854809826 | P9: 247721 | R9: 1253708484951 | T9: =E9+L9-P9 -> 585557 | V9: 5020000 | X9: 2807947353542 | Z9: 2932441349264 | AB9: =Z9/AE9 -> 0.98122221 | AE9: 2988559905510
A10: جمع | F10: 0 | H10: 0 | J10: 0 | N10: =SUM(N9) -> 3995854809826 | R10: =SUM(R9) -> 1253708484951 | X10: =SUM(X9) -> 2807947353542 | Z10: =SUM(Z9) -> 2932441349264 | AB10: =SUM(AB9) -> 0.98122221

Sheet سپرده
A1: صندوق سرمایه گذاری کالایی دیبای معیار
A2: صورت وضعیت پرتفوی صندوق سرمایه گذاری کالایی دیبای معیار1 (سیان)
A3: برای ماه منتهی به 1405/06/31
A5: _2_1 | B5: سرمایه‌گذاری در سپرده‌ بانکی
D6: 1405/05/31 | F6: تغییرات طی دوره | J6: 1405/06/31
A8: سپرده های بانکی | D8: مبلغ | F8: افزایش | H8: کاهش | J8: مبلغ | L8: درصد به کل دارایی ها
A9: سپرده بانکی | D9: 0 | F9: 10935370106938 | H9: 10935297840616 | J9: =D9+F9-H9 -> 72266322 | L9: =J9/سهام!AE9 -> 2.4180985e-05
A10: گواهی سپرده بانکی | D10: 0 | F10: 4278600000000 | H10: 4271800000000 | J10: =D10+F10-H10 -> 6800000000 | L10: =J10/سهام!AE9 -> 0.0022753434
A11: جمع | D11: =SUM(D9:D10) -> 0 | F11: =SUM(F9:F10) -> 15213970106938 | H11: =SUM(H9:H10) -> 15207097840616 | J11: =SUM(J9:J10) -> 6872266322 | L11: =SUM(L9:L10) -> 0.0022995244

Sheet درآمد
A1: صندوق سرمایه گذاری کالایی دیبای معیار
A2: صورت وضعیت پرتفوی صندوق سرمایه گذاری کالایی دیبای معیار1 (سیان)
A3: برای ماه منتهی به 1405/06/31
A5: -2 | B5: درآمد حاصل از سرمایه گذاری ها
A7: شرح | D7: یادداشت | F7: مبلغ | H7: درصد از کل درآمدها | J7: درصد از کل دارایی ها
A8: درآمد حاصل از سرمایه گذاری در گواهی سپرده کالایی | D8: 1-2 | F8: ='درآمد حاصل از سرمایه گذاری در گ'!J10 -> 190295024389 | H8: =F8/F11 -> 0.81077433 | J8: =F8/سهام!$AE$9 -> 0.063674489
A9: درآمد حاصل از سرمایه گذاری در سپرده بانکی و گواهی سپرده | D9: 2-2 | F9: ='درآمد سپرده بانکی'!D10 -> 41402925681 | H9: =F9/F11 -> 0.17640203 | J9: =F9/سهام!$AE$9 -> 0.013853805
A10: سایر درآمدها | D10: 3-2 | F10: ='سایر درآمدها'!D8 -> 3009807197 | H10: =F10/F11 -> 0.012823637 | J10: =F10/سهام!$AE$9 -> 0.0010071095
A11: جمع | F11: =SUM(F8:F10) -> 234707757267 | H11: =SUM(H8:H10) -> 1 | J11: =SUM(J8:J10) -> 0.078535403

Sheet درآمد حاصل از سرمایه گذاری در گ
A1: صندوق سرمایه گذاری کالایی دیبای معیار
A2: صورت وضعیت پرتفوی صندوق سرمایه گذاری کالایی دیبای معیار1 (سیان)
A3: برای ماه منتهی به 1405/06/31
A5: -1-2 | B5: درآمد حاصل از سرمایه گذاری در گواهی سپرده کالایی
D6: طی ماه | N6: از ابتدای سال مالی
J7: جمع | U7: جمع
A8: سهام | D8: درآمد سود سهام | F8: درآمد تغییر ارزش | H8: درآمد فروش | J8: مبلغ | L8: درصد از کل درآمدها | N8: درآمد سود سهام | P8: درآمد تغییر ارزش | S8: درآمد فروش | U8: مبلغ | W8: درصد از کل درآمدها
A9: شمش نقره SilverBar | D9: 0 | F9: ='درآمد ناشی از تغییر قیمت اوراق'!I8 -> 124493995722 | H9: ='درآمد ناشی از فروش'!I9 -> 65801028667 | J9: =D9+F9+H9 -> 190295024389 | L9: =J9/درآمد!F11 -> 0.81077433 | N9: 0 | Q9: ='درآمد ناشی از تغییر قیمت اوراق'!Q8 -> 124493995722 | S9: {='درآمد ناشی از فروش'!Q8:R8} -> 65801028667 | T9: 0 | U9: =N9+Q9+S9 -> 190295024389 | W9: =U9/W16 -> 0.81077433
A10: جمع | D10: =SUM(D9) -> 0 | F10: =SUM(F9) -> 124493995722 | H10: =SUM(H9) -> 65801028667 | J10: =SUM(J9) -> 190295024389 | L10: =SUM(L9) -> 0.81077433 | N10: =SUM(N9) -> 0 | Q10: =SUM(Q9) -> 124493995722 | S10: =SUM(S9) -> 65801028667 | U10: =SUM(U9) -> 190295024389 | W10: =SUM(W9) -> 0.81077433
S15: صورت سود و زیان | U15: کارمزد فروش
S16: 237723897299 | U16: 3016140032 | W16: =S16-U16 -> 234707757267

Sheet درآمد سپرده بانکی
A1: صندوق سرمایه گذاری کالایی دیبای معیار
A2: صورت وضعیت درآمدها صندوق سرمایه گذاری کالایی دیبای معیار1 (سیان)
A3: برای ماه منتهی به 1405/06/31
A5: _2-2 | B5: درآمد حاصل از سرمایه گذاری در سپرده بانکی و گواهی سپرده
D6: طی ماه | H6: از ابتدای سال مالی
A7: نام سپرده بانکی | D7: سود سپرده بانکی و گواهی سپرده | F7: درصد سود به میانگین سپرده | H7: سود سپرده بانکی و گواهی سپرده | J7: درصد سود به میانگین سپرده
A8: سپرده بانکی | D8: 10616 | F8: =D8/P14 -> 0.00029380214 | H8: 10616 | J8: =H8/U14 -> 0.00029380214
A9: گواهی سپرده بانکی | D9: 41402915065 | F9: =D9/P22 -> 12.177328 | H9: 41402915065 | J9: =H9/U22 -> 12.177328
A10: جمع | D10: =SUM(D8:D9) -> 41402925681 | F10: =SUM(F8:F9) -> 12.177622 | H10: =SUM(H8:H9) -> 41402925681 | J10: =SUM(J8:J9) -> 12.177622 | O10: طی ماه | T10: از ابتدای سال مالی
O12: اول دوره | P12: =سپرده!D9 -> 0 | S12: سپرده بانکی | T12: اول دوره | U12: =سپرده!D9 -> 0
O13: انتهای دوره | P13: =سپرده!J9 -> 72266322 | T13: انتهای دوره | U13: =سپرده!J9 -> 72266322
O14: میانگین | P14: =(P12+P13)/2 -> 36133161 | T14: میانگین | U14: =(U12+U13)/2 -> 36133161
O18: طی ماه | T18: از ابتدای سال مالی
O20: اول دوره | P20: =سپرده!D10 -> 0 | S20: سپرده بانکی | T20: اول دوره | U20: =سپرده!D10 -> 0
O21: انتهای دوره | P21: =سپرده!J10 -> 6800000000 | T21: انتهای دوره | U21: =سپرده!J10 -> 6800000000
O22: میانگین | P22: =(P20+P21)/2 -> 3400000000 | T22: میانگین | U22: =(U20+U21)/2 -> 3400000000

Sheet سایر درآمدها
A1: صندوق سرمایه گذاری کالایی دیبای معیار
A2: صورت وضعیت درآمدها صندوق سرمایه گذاری کالایی دیبای معیار1 (سیان)
A3: برای ماه منتهی به 1405/06/31
A5: _3_2 | B5: سایر درآمدها
D6: طی ماه | F6: 1405/06/31
A7: سایر درآمدها | D7: مبلغ | F7: مبلغ
A8: تعدیل کارمزد کارگزار | D8: 3009807197 | F8: 3009807197
A9: جمع | D9: =SUM(D8) -> 3009807197 | F9: =SUM(F8) -> 3009807197

Sheet سود سپرده بانکی
A1: صندوق سرمایه گذاری کالایی دیبای معیار
A2: صورت وضعیت درآمدها صندوق سرمایه گذاری کالایی دیبای معیار1 (سیان)
A3: برای ماه منتهی به 1405/06/31
A5: سود سپرده بانکی
A6: شرح | C6: طی ماه | I6: از ابتدای سال مالی
C7: درآمد سود | E7: هزینه تنزیل | G7: خالص درآمد | I7: درآمد سود | K7: هزینه تنزیل | M7: خالص درآمد
A8: گردشگری | C8: 41402925681 | E8: 5154197 | G8: =C8-E8 -> 41397771484 | I8: 41402925681 | K8: 5154197 | M8: =I8-K8 -> 41397771484
A9: جمع | C9: =SUM(C8:C8) -> 41402925681 | E9: =SUM(E8:E8) -> 5154197 | G9: =SUM(G8:G8) -> 41397771484 | I9: =SUM(I8:I8) -> 41402925681 | K9: =SUM(K8:K8) -> 5154197 | M9: =SUM(M8:M8) -> 41397771484

Sheet درآمد ناشی از فروش
A1: صندوق سرمایه گذاری کالایی دیبای معیار
A2: صورت وضعیت درآمدها صندوق سرمایه گذاری کالایی دیبای معیار1 (سیان)
A3: برای ماه منتهی به 1405/06/31
A5: سود(زیان) حاصل از فروش اوراق بهادار
A6: شرح | C6: طی ماه | K6: از ابتدای سال مالی
C7: تعداد | E7: خالص بهای فروش | G7: ارزش دفتری | I7: سود و زیان ناشی از فروش | K7: تعداد | M7: خالص بهای فروش | O7: ارزش دفتری | Q7: سود و زیان ناشی از فروش
A8: شمش نقره SilverBar | C8: =سهام!P9 -> 247721 | E8: 1253708484951 | G8: 1187907456284 | I8: =E8-G8 -> 65801028667 | K8: =سهام!P9 -> 247721 | M8: 1253708484951 | O8: 1187907456284 | Q8: =M8-O8 -> 65801028667
A9: جمع | E9: =SUM(E8) -> 1253708484951 | G9: =SUM(G8) -> 1187907456284 | I9: =SUM(I8) -> 65801028667 | M9: =SUM(M8) -> 1253708484951 | O9: =SUM(O8) -> 1187907456284 | Q9: =SUM(Q8) -> 65801028667

Sheet درآمد ناشی از تغییر قیمت اوراق
A1: صندوق سرمایه گذاری کالایی دیبای معیار
A2: صورت وضعیت درآمدها صندوق سرمایه گذاری کالایی دیبای معیار1 (سیان)
A3: برای ماه منتهی به 1405/06/31
A5: درآمد ناشی از تغییر قیمت اوراق بهادار
A6: شرح | C6: طی ماه | K6: از ابتدای سال مالی
C7: تعداد | E7: خالص ارزش فروش | G7: ارزش دفتری | I7: سود و زیان ناشی از تغییر قیمت | K7: تعداد | M7: خالص ارزش فروش | O7: ارزش دفتری | Q7: سود و زیان ناشی از تغییر قیمت
A8: شمش نقره SilverBar | C8: =سهام!T9 -> 585557 | E8: 2932441349264 | G8: 2807947353542 | I8: =E8-G8 -> 124493995722 | K8: =سهام!T9 -> 585557 | M8: 2932441349264 | O8: 2807947353542 | Q8: =M8-O8 -> 124493995722
A9: جمع | E9: =SUM(E8) -> 2932441349264 | G9: =SUM(G8) -> 2807947353542 | I9: =SUM(I8) -> 124493995722 | M9: =SUM(M8) -> 2932441349264 | O9: =SUM(O8) -> 2807947353542 | Q9: =SUM(Q8) -> 124493995722
